Workbook
Name Fachpakete: Parameter!$B$26:$B$30
Name Groessen: Parameter!$B$21:$B$23
Name Groessenfaktoren: Parameter!$C$21:$C$23
Name Klasse_ab: Parameter!$C$5:$C$8
Name Klasse_Name: Parameter!$E$5:$E$8
Name Klasse_Rabatt: Parameter!$D$5:$D$8
Name Rabatt_Fach: Parameter!$C$12
Name Rabatt_Gesamt: Parameter!$C$13
Name Typen: Parameter!$B$18:$B$20
Name Typfaktoren: Parameter!$C$18:$C$20
Name USt: Parameter!$C$14

Sheet Backlistangebot 2027
J1: Your Trusted Knowledge Base: https://www.inlibra.com
B2: Suhrkamp Backlist-Pakete 2027 | Kaufpakete mit dauerhaften Nutzungsrechten
B4: Paket | C4: Titel | D4: Wert* | E4: Ø Archiv- rabatt | F4: Wert* nach Archivrabatt | G4: Grund- rabatt | H4: Paketausgangs- preis* | I4: indiv. Preis* inkl. Faktoren | J4: indiv. Preis inkl. Faktoren netto | L4: Einrichtung [bitte wählen] | N4: Faktoren
B5: Suhrkamp Backlist Gesamt (bis 2025) | C5: =COUNTIFS(Titelliste!$P$2:$P$1218,"ja") -> 1176 | D5: =SUMIFS(Titelliste!$K$2:$K$1218,Titelliste!$P$2:$P$1218,"ja") -> 279611.49 | E5: =IF(D5>0,1-F5/D5,0) -> 0.28415029 | F5: =SUMIFS(Titelliste!$S$2:$S$1218,Titelliste!$P$2:$P$1218,"ja") -> 200159.8 | G5: =Rabatt_Gesamt -> 0.5 | H5: =ROUND(F5*(1-G5),-1) -> 100080 | I5: =H5*$L$10 -> 100080 | J5: =I5/(1+USt) -> 93532.71 | L5: Einrichtungstyp | N5: Universitäten | O5: =Parameter!$C$18 -> 1
B6: Suhrkamp Backlist Philosophie & Religion | C6: =COUNTIFS(Titelliste!$P$2:$P$1218,"ja",Titelliste!$O$2:$O$1218,"Philosophie & Religion") -> 301 | D6: =SUMIFS(Titelliste!$K$2:$K$1218,Titelliste!$P$2:$P$1218,"ja",Titelliste!$O$2:$O$1218,"Philosophie & Religion") -> 72949.22 | E6: =IF(D6>0,1-F6/D6,0) -> 0.27643325 | F6: =SUMIFS(Titelliste!$S$2:$S$1218,Titelliste!$P$2:$P$1218,"ja",Titelliste!$O$2:$O$1218,"Philosophie & Religion") -> 52783.63 | G6: =Rabatt_Fach -> 0.1 | H6: =ROUND(F6*(1-G6),-1) -> 47510 | I6: =H6*$L$10 -> 47510 | J6: =I6/(1+USt) -> 44401.869 | L6: Universitäten | N6: Fachhochschulen | O6: =Parameter!$C$19 -> 0.5
B7: Suhrkamp Backlist Soziologie, Gesellschaft & Wirtschaft | C7: =COUNTIFS(Titelliste!$P$2:$P$1218,"ja",Titelliste!$O$2:$O$1218,"Soziologie, Gesellschaft & Wirtschaft") -> 325 | D7: =SUMIFS(Titelliste!$K$2:$K$1218,Titelliste!$P$2:$P$1218,"ja",Titelliste!$O$2:$O$1218,"Soziologie, Gesellschaft & Wirtschaft") -> 73372.309 | E7: =IF(D7>0,1-F7/D7,0) -> 0.26083461 | F7: =SUMIFS(Titelliste!$S$2:$S$1218,Titelliste!$P$2:$P$1218,"ja",Titelliste!$O$2:$O$1218,"Soziologie, Gesellschaft & Wirtschaft") -> 54234.272 | G7: =Rabatt_Fach -> 0.1 | H7: =ROUND(F7*(1-G7),-1) -> 48810 | I7: =H7*$L$10 -> 48810 | J7: =I7/(1+USt) -> 45616.822 | L7: Einrichtungsgröße (Uni/FH) | N7: Staats-/Landesbibliotheken | O7: =Parameter!$C$20 -> 1
B8: Suhrkamp Backlist Politik, Recht & Geschichte | C8: =COUNTIFS(Titelliste!$P$2:$P$1218,"ja",Titelliste!$O$2:$O$1218,"Politik, Recht & Geschichte") -> 274 | D8: =SUMIFS(Titelliste!$K$2:$K$1218,Titelliste!$P$2:$P$1218,"ja",Titelliste!$O$2:$O$1218,"Politik, Recht & Geschichte") -> 59935.985 | E8: =IF(D8>0,1-F8/D8,0) -> 0.27237982 | F8: =SUMIFS(Titelliste!$S$2:$S$1218,Titelliste!$P$2:$P$1218,"ja",Titelliste!$O$2:$O$1218,"Politik, Recht & Geschichte") -> 43610.632 | G8: =Rabatt_Fach -> 0.1 | H8: =ROUND(F8*(1-G8),-1) -> 39250 | I8: =H8*$L$10 -> 39250 | J8: =I8/(1+USt) -> 36682.243 | L8: > 10.000 FTE | N8: ≤ 5.000 FTE (Uni/FH) | O8: =Parameter!$C$21 -> 0.8
B9: Suhrkamp Backlist Kultur, Literatur & Medien | C9: =COUNTIFS(Titelliste!$P$2:$P$1218,"ja",Titelliste!$O$2:$O$1218,"Kultur, Literatur & Medien") -> 179 | D9: =SUMIFS(Titelliste!$K$2:$K$1218,Titelliste!$P$2:$P$1218,"ja",Titelliste!$O$2:$O$1218,"Kultur, Literatur & Medien") -> 42898.853 | E9: =IF(D9>0,1-F9/D9,0) -> 0.2871964 | F9: =SUMIFS(Titelliste!$S$2:$S$1218,Titelliste!$P$2:$P$1218,"ja",Titelliste!$O$2:$O$1218,"Kultur, Literatur & Medien") -> 30578.457 | G9: =Rabatt_Fach -> 0.1 | H9: =ROUND(F9*(1-G9),-1) -> 27520 | I9: =H9*$L$10 -> 27520 | J9: =I9/(1+USt) -> 25719.626 | L9: Faktor gesamt | N9: ≤ 10.000 FTE (Uni/FH) | O9: =Parameter!$C$22 -> 0.9
B10: Suhrkamp Backlist Werkausgaben & Editionen | C10: =COUNTIFS(Titelliste!$P$2:$P$1218,"ja",Titelliste!$O$2:$O$1218,"Werkausgaben & Editionen") -> 97 | D10: =SUMIFS(Titelliste!$K$2:$K$1218,Titelliste!$P$2:$P$1218,"ja",Titelliste!$O$2:$O$1218,"Werkausgaben & Editionen") -> 30455.123 | E10: =IF(D10>0,1-F10/D10,0) -> 0.37768066 | F10: =SUMIFS(Titelliste!$S$2:$S$1218,Titelliste!$P$2:$P$1218,"ja",Titelliste!$O$2:$O$1218,"Werkausgaben & Editionen") -> 18952.812 | G10: =Rabatt_Fach -> 0.1 | H10: =ROUND(F10*(1-G10),-1) -> 17060 | I10: =H10*$L$10 -> 17060 | J10: =I10/(1+USt) -> 15943.925 | L10: =INDEX(Typfaktoren,MATCH(L6,Typen,0))*IF(L6="Staats-/Landesbibliotheken",1,INDEX(Groessenfaktoren,MATCH(L8,Groessen,0))) -> 1 | N10: > 10.000 FTE (Uni/FH) | O10: =Parameter!$C$23 -> 1
B11: Summe der Fachpakete | C11: =SUM(C6:C10) -> 1176 | D11: =SUM(D6:D10) -> 279611.49 | F11: =SUM(F6:F10) -> 200159.8 | H11: =SUM(H6:H10) -> 180150 | I11: =SUM(I6:I10) -> 180150
B12: =IF(H11>0,"Gesamtpaket "&FIXED((1-H5/H11)*100,0)&" % günstiger als alle Fachpakete einzeln","") -> Gesamtpaket 44 % günstiger als alle Fachpakete einzeln
B14: Preise* nach Einrichtung
B15: Paket | C15: Uni ≤ 5.000 | D15: Uni ≤ 10.000 | E15: Uni > 10.000 | F15: FH ≤ 5.000 | G15: FH ≤ 10.000 | H15: FH > 10.000 | I15: StLB
B16: Suhrkamp Backlist Gesamt (bis 2025) | C16: =$H$5*INDEX(Typfaktoren,1)*INDEX(Groessenfaktoren,1) -> 80064 | D16: =$H$5*INDEX(Typfaktoren,1)*INDEX(Groessenfaktoren,2) -> 90072 | E16: =$H$5*INDEX(Typfaktoren,1)*INDEX(Groessenfaktoren,3) -> 100080 | F16: =$H$5*INDEX(Typfaktoren,2)*INDEX(Groessenfaktoren,1) -> 40032 | G16: =$H$5*INDEX(Typfaktoren,2)*INDEX(Groessenfaktoren,2) -> 45036 | H16: =$H$5*INDEX(Typfaktoren,2)*INDEX(Groessenfaktoren,3) -> 50040 | I16: =$H$5*INDEX(Typfaktoren,3) -> 100080
B17: Suhrkamp Backlist Philosophie & Religion | C17: =$H$6*INDEX(Typfaktoren,1)*INDEX(Groessenfaktoren,1) -> 38008 | D17: =$H$6*INDEX(Typfaktoren,1)*INDEX(Groessenfaktoren,2) -> 42759 | E17: =$H$6*INDEX(Typfaktoren,1)*INDEX(Groessenfaktoren,3) -> 47510 | F17: =$H$6*INDEX(Typfaktoren,2)*INDEX(Groessenfaktoren,1) -> 19004 | G17: =$H$6*INDEX(Typfaktoren,2)*INDEX(Groessenfaktoren,2) -> 21379.5 | H17: =$H$6*INDEX(Typfaktoren,2)*INDEX(Groessenfaktoren,3) -> 23755 | I17: =$H$6*INDEX(Typfaktoren,3) -> 47510
B18: Suhrkamp Backlist Soziologie, Gesellschaft & Wirtschaft | C18: =$H$7*INDEX(Typfaktoren,1)*INDEX(Groessenfaktoren,1) -> 39048 | D18: =$H$7*INDEX(Typfaktoren,1)*INDEX(Groessenfaktoren,2) -> 43929 | E18: =$H$7*INDEX(Typfaktoren,1)*INDEX(Groessenfaktoren,3) -> 48810 | F18: =$H$7*INDEX(Typfaktoren,2)*INDEX(Groessenfaktoren,1) -> 19524 | G18: =$H$7*INDEX(Typfaktoren,2)*INDEX(Groessenfaktoren,2) -> 21964.5 | H18: =$H$7*INDEX(Typfaktoren,2)*INDEX(Groessenfaktoren,3) -> 24405 | I18: =$H$7*INDEX(Typfaktoren,3) -> 48810
B19: Suhrkamp Backlist Politik, Recht & Geschichte | C19: =$H$8*INDEX(Typfaktoren,1)*INDEX(Groessenfaktoren,1) -> 31400 | D19: =$H$8*INDEX(Typfaktoren,1)*INDEX(Groessenfaktoren,2) -> 35325 | E19: =$H$8*INDEX(Typfaktoren,1)*INDEX(Groessenfaktoren,3) -> 39250 | F19: =$H$8*INDEX(Typfaktoren,2)*INDEX(Groessenfaktoren,1) -> 15700 | G19: =$H$8*INDEX(Typfaktoren,2)*INDEX(Groessenfaktoren,2) -> 17662.5 | H19: =$H$8*INDEX(Typfaktoren,2)*INDEX(Groessenfaktoren,3) -> 19625 | I19: =$H$8*INDEX(Typfaktoren,3) -> 39250
B20: Suhrkamp Backlist Kultur, Literatur & Medien | C20: =$H$9*INDEX(Typfaktoren,1)*INDEX(Groessenfaktoren,1) -> 22016 | D20: =$H$9*INDEX(Typfaktoren,1)*INDEX(Groessenfaktoren,2) -> 24768 | E20: =$H$9*INDEX(Typfaktoren,1)*INDEX(Groessenfaktoren,3) -> 27520 | F20: =$H$9*INDEX(Typfaktoren,2)*INDEX(Groessenfaktoren,1) -> 11008 | G20: =$H$9*INDEX(Typfaktoren,2)*INDEX(Groessenfaktoren,2) -> 12384 | H20: =$H$9*INDEX(Typfaktoren,2)*INDEX(Groessenfaktoren,3) -> 13760 | I20: =$H$9*INDEX(Typfaktoren,3) -> 27520
B21: Suhrkamp Backlist Werkausgaben & Editionen | C21: =$H$10*INDEX(Typfaktoren,1)*INDEX(Groessenfaktoren,1) -> 13648 | D21: =$H$10*INDEX(Typfaktoren,1)*INDEX(Groessenfaktoren,2) -> 15354 | E21: =$H$10*INDEX(Typfaktoren,1)*INDEX(Groessenfaktoren,3) -> 17060 | F21: =$H$10*INDEX(Typfaktoren,2)*INDEX(Groessenfaktoren,1) -> 6824 | G21: =$H$10*INDEX(Typfaktoren,2)*INDEX(Groessenfaktoren,2) -> 7677 | H21: =$H$10*INDEX(Typfaktoren,2)*INDEX(Groessenfaktoren,3) -> 8530 | I21: =$H$10*INDEX(Typfaktoren,3) -> 17060
B23: Anrechnung Kundenbestand (Blatt „Kundenbestand“)
B24: Paket | C24: Titel im Bestand | D24: Wert* im Bestand | E24: Anteil am Paketwert | F24: verbleibender Wert* nach Archivrabatt | I24: Preis* nach Anrechnung inkl. Faktoren
B25: Suhrkamp Backlist Gesamt (bis 2025) | C25: =COUNTIFS(Titelliste!$P$2:$P$1218,"ja",Titelliste!$U$2:$U$1218,"x") -> 0 | D25: =SUMIFS(Titelliste!$V$2:$V$1218,Titelliste!$P$2:$P$1218,"ja") -> 0 | E25: =IF(F5>0,D25/F5,0) -> 0 | F25: =F5-D25 -> 200159.8 | I25: =ROUND(F25*(1-G5),-1)*$L$10 -> 100080
B26: Suhrkamp Backlist Philosophie & Religion | C26: =COUNTIFS(Titelliste!$P$2:$P$1218,"ja",Titelliste!$U$2:$U$1218,"x",Titelliste!$O$2:$O$1218,"Philosophie & Religion") -> 0 | D26: =SUMIFS(Titelliste!$V$2:$V$1218,Titelliste!$P$2:$P$1218,"ja",Titelliste!$O$2:$O$1218,"Philosophie & Religion") -> 0 | E26: =IF(F6>0,D26/F6,0) -> 0 | F26: =F6-D26 -> 52783.63 | I26: =ROUND(F26*(1-G6),-1)*$L$10 -> 47510
B27: Suhrkamp Backlist Soziologie, Gesellschaft & Wirtschaft | C27: =COUNTIFS(Titelliste!$P$2:$P$1218,"ja",Titelliste!$U$2:$U$1218,"x",Titelliste!$O$2:$O$1218,"Soziologie, Gesellschaft & Wirtschaft") -> 0 | D27: =SUMIFS(Titelliste!$V$2:$V$1218,Titelliste!$P$2:$P$1218,"ja",Titelliste!$O$2:$O$1218,"Soziologie, Gesellschaft & Wirtschaft") -> 0 | E27: =IF(F7>0,D27/F7,0) -> 0 | F27: =F7-D27 -> 54234.272 | I27: =ROUND(F27*(1-G7),-1)*$L$10 -> 48810
B28: Suhrkamp Backlist Politik, Recht & Geschichte | C28: =COUNTIFS(Titelliste!$P$2:$P$1218,"ja",Titelliste!$U$2:$U$1218,"x",Titelliste!$O$2:$O$1218,"Politik, Recht & Geschichte") -> 0 | D28: =SUMIFS(Titelliste!$V$2:$V$1218,Titelliste!$P$2:$P$1218,"ja",Titelliste!$O$2:$O$1218,"Politik, Recht & Geschichte") -> 0 | E28: =IF(F8>0,D28/F8,0) -> 0 | F28: =F8-D28 -> 43610.632 | I28: =ROUND(F28*(1-G8),-1)*$L$10 -> 39250
B29: Suhrkamp Backlist Kultur, Literatur & Medien | C29: =COUNTIFS(Titelliste!$P$2:$P$1218,"ja",Titelliste!$U$2:$U$1218,"x",Titelliste!$O$2:$O$1218,"Kultur, Literatur & Medien") -> 0 | D29: =SUMIFS(Titelliste!$V$2:$V$1218,Titelliste!$P$2:$P$1218,"ja",Titelliste!$O$2:$O$1218,"Kultur, Literatur & Medien") -> 0 | E29: =IF(F9>0,D29/F9,0) -> 0 | F29: =F9-D29 -> 30578.457 | I29: =ROUND(F29*(1-G9),-1)*$L$10 -> 27520
B30: Suhrkamp Backlist Werkausgaben & Editionen | C30: =COUNTIFS(Titelliste!$P$2:$P$1218,"ja",Titelliste!$U$2:$U$1218,"x",Titelliste!$O$2:$O$1218,"Werkausgaben & Editionen") -> 0 | D30: =SUMIFS(Titelliste!$V$2:$V$1218,Titelliste!$P$2:$P$1218,"ja",Titelliste!$O$2:$O$1218,"Werkausgaben & Editionen") -> 0 | E30: =IF(F10>0,D30/F10,0) -> 0 | F30: =F10-D30 -> 18952.812 | I30: =ROUND(F30*(1-G10),-1)*$L$10 -> 17060
B32: * Bruttopreise. Wert = Summe der Inst-Preise der enthaltenen Titel (Inst-Preis = NP × Faktor lt. Titelliste).
B33: Umfang: Suhrkamp-Backlist bis Erscheinungsjahr 2025 (Suhrkamp, Insel, Jüdischer Verlag, Deutscher Klassiker Verlag, Verlag der Weltreligionen). Die Neuerscheinungen 2026 sind in den Inlibra-Themenpaketen 2026 enthalten und hier ausgenommen.
B34: Archivrabatt je Titel nach Erscheinungsjahr (10–50 %, Konditionen Archivpakete), darauf der Grundrabatt des Pakets; Faktoren nach Einrichtungstyp und -größe lt. Tabelle oben rechts, für Staats-/Landesbibliotheken kein Größenfaktor.
B35: Mit dem Erwerb werden dauerhafte Zugriffsrechte erworben. Bereits erworbene Titel (z. B. über Contentselect) werden auf Nachweis (ISBN-Liste) angerechnet.

Sheet Kundenbestand
D1: Your Trusted Knowledge Base: https://www.inlibra.com
B2: Kundenbestand für die Anrechnung
B4: ISBN (E- oder Print-ISBN, mit/ohne Bindestriche) | C4: normiert (automatisch) | D4: Bereits erworbene Titel der Bibliothek (z. B. über Contentselect): ISBN-Liste in Spalte B einfügen. Die Titelliste markiert passende Titel, das Angebotsblatt rechnet den Preis nach Anrechnung. Für das nächste Angebot Liste wieder leeren.
C5: =IF(B5="","",IF(ISNUMBER(B5),TEXT(B5,"0"),SUBSTITUTE(SUBSTITUTE(TRIM(B5),"-","")," ","")))
C6: =IF(B6="","",IF(ISNUMBER(B6),TEXT(B6,"0"),SUBSTITUTE(SUBSTITUTE(TRIM(B6),"-","")," ","")))
C7: =IF(B7="","",IF(ISNUMBER(B7),TEXT(B7,"0"),SUBSTITUTE(SUBSTITUTE(TRIM(B7),"-","")," ","")))
C8: =IF(B8="","",IF(ISNUMBER(B8),TEXT(B8,"0"),SUBSTITUTE(SUBSTITUTE(TRIM(B8),"-","")," ","")))
C9: =IF(B9="","",IF(ISNUMBER(B9),TEXT(B9,"0"),SUBSTITUTE(SUBSTITUTE(TRIM(B9),"-","")," ","")))
C10: =IF(B10="","",IF(ISNUMBER(B10),TEXT(B10,"0"),SUBSTITUTE(SUBSTITUTE(TRIM(B10),"-","")," ","")))
C11: =IF(B11="","",IF(ISNUMBER(B11),TEXT(B11,"0"),SUBSTITUTE(SUBSTITUTE(TRIM(B11),"-","")," ","")))
C12: =IF(B12="","",IF(ISNUMBER(B12),TEXT(B12,"0"),SUBSTITUTE(SUBSTITUTE(TRIM(B12),"-","")," ","")))
C13: =IF(B13="","",IF(ISNUMBER(B13),TEXT(B13,"0"),SUBSTITUTE(SUBSTITUTE(TRIM(B13),"-","")," ","")))
C14: =IF(B14="","",IF(ISNUMBER(B14),TEXT(B14,"0"),SUBSTITUTE(SUBSTITUTE(TRIM(B14),"-","")," ","")))
C15: =IF(B15="","",IF(ISNUMBER(B15),TEXT(B15,"0"),SUBSTITUTE(SUBSTITUTE(TRIM(B15),"-","")," ","")))
C16: =IF(B16="","",IF(ISNUMBER(B16),TEXT(B16,"0"),SUBSTITUTE(SUBSTITUTE(TRIM(B16),"-","")," ","")))
... C3004: =IF(B3004="","",IF(ISNUMBER(B3004),TEXT(B3004,"0"),SUBSTITUTE(SUBSTITUTE(TRIM(B3004),"-","")," ","")))

Sheet Titelliste
A1: E-ISBN | B1: Print-ISBN | C1: Verlag | D1: Urheber | E1: Titel | F1: Untertitel | G1: ET | H1: Jahr | I1: NP* | J1: Faktor | K1: Inst-Preis* | L1: Inlibra-Status 19.10.2026 | M1: online auf Inlibra | N1: THEMA | O1: Fachpaket | P1: im Backlistangebot | Q1: Altersklasse | R1: Archiv-rabatt | S1: Wert nach Archivrabatt* | T1: Kunden-bestand manuell (x) | U1: Kunden-bestand | V1: Wert im Kundenbestand*
A2: 978-3-458-73188-7 | B2: 978-3-458-72020-1 | C2: Verlag der Weltreligionen | D2: Wilden | E2: Lieder von Hingabe und Staunen | F2: Gedichte der frühen tamilischen Bhakti | G2: 41470 | H2: =IF(ISNUMBER(G2),YEAR(G2),"") -> 2013 | I2: 196 | J2: 1.42 | K2: =IF(AND(ISNUMBER(I2),ISNUMBER(J2)),I2*J2,0) -> 278.32 | L2: Paket SoWi Classics | M2: ja | N2: DSB;1FK | O2: Kultur, Literatur & Medien | P2: =IF(LEFT(L2,13)="Inlibra Paket","nein – Frontlist 2026",IF(K2<=0,"nein – Preis fehlt","ja")) -> ja | Q2: =IF(H2="","",INDEX(Klasse_Name,MATCH(H2,Klasse_ab,1))) -> 2013–2016 | R2: =IF(H2="",0,INDEX(Klasse_Rabatt,MATCH(H2,Klasse_ab,1))) -> 0.4 | S2: =IF(P2="ja",K2*(1-R2),0) -> 166.992 | U2: =IF(OR(T2="x",ISNUMBER(MATCH(SUBSTITUTE(A2,"-",""),Kundenbestand!$C$5:$C$3004,0)),ISNUMBER(MATCH(SUBSTITUTE(B2,"-",""),Kundenbestand!$C$5:$C$3004,0))),"x","") | V2: =IF(U2="x",S2,0) -> 0
A3: 978-3-458-73249-5 | B3: 978-3-458-70042-5 | C3: Verlag der Weltreligionen | D3: Witzel/Scarlata/Gotō | E3: Rig-Veda. Das Heilige Wissen | F3: Dritter bis fünfter Liederkreis | G3: 41617 | H3: =IF(ISNUMBER(G3),YEAR(G3),"") -> 2013 | I3: 378 | J3: 1.42 | K3: =IF(AND(ISNUMBER(I3),ISNUMBER(J3)),I3*J3,0) -> 536.76 | L3: Paket SoWi Classics | M3: ja | N3: QRDF;DSB | O3: Philosophie & Religion | P3: =IF(LEFT(L3,13)="Inlibra Paket","nein – Frontlist 2026",IF(K3<=0,"nein – Preis fehlt","ja")) -> ja | Q3: =IF(H3="","",INDEX(Klasse_Name,MATCH(H3,Klasse_ab,1))) -> 2013–2016 | R3: =IF(H3="",0,INDEX(Klasse_Rabatt,MATCH(H3,Klasse_ab,1))) -> 0.4 | S3: =IF(P3="ja",K3*(1-R3),0) -> 322.056 | U3: =IF(OR(T3="x",ISNUMBER(MATCH(SUBSTITUTE(A3,"-",""),Kundenbestand!$C$5:$C$3004,0)),ISNUMBER(MATCH(SUBSTITUTE(B3,"-",""),Kundenbestand!$C$5:$C$3004,0))),"x","") | V3: =IF(U3="x",S3,0) -> 0
A4: 978-3-458-73368-3 | B4: 978-3-458-17588-9 | C4: Insel Verlag | D4: Böhmer | E4: Der Major, der den Krieg überlistete | G4: 41553 | H4: =IF(ISNUMBER(G4),YEAR(G4),"") -> 2013 | I4: 153.65 | J4: 1.42 | K4: =IF(AND(ISNUMBER(I4),ISNUMBER(J4)),I4*J4,0) -> 218.183 | L4: Paket SoWi Classics | M4: ja | N4: NHF;DNB;NHTB;1FKP | O4: Politik, Recht & Geschichte | P4: =IF(LEFT(L4,13)="Inlibra Paket","nein – Frontlist 2026",IF(K4<=0,"nein – Preis fehlt","ja")) -> ja | Q4: =IF(H4="","",INDEX(Klasse_Name,MATCH(H4,Klasse_ab,1))) -> 2013–2016 | R4: =IF(H4="",0,INDEX(Klasse_Rabatt,MATCH(H4,Klasse_ab,1))) -> 0.4 | S4: =IF(P4="ja",K4*(1-R4),0) -> 130.9098 | U4: =IF(OR(T4="x",ISNUMBER(MATCH(SUBSTITUTE(A4,"-",""),Kundenbestand!$C$5:$C$3004,0)),ISNUMBER(MATCH(SUBSTITUTE(B4,"-",""),Kundenbestand!$C$5:$C$3004,0))),"x","") | V4: =IF(U4="x",S4,0) -> 0
A5: 978-3-458-73495-6 | B5: 978-3-458-70043-2 | C5: Verlag der Weltreligionen | D5: Schreiner | E5: Visnupurāna | F5: Althergebrachte Kunde über Visnu | G5: 41568 | H5: =IF(ISNUMBER(G5),YEAR(G5),"") -> 2013 | I5: 406 | J5: 1.42 | K5: =IF(AND(ISNUMBER(I5),ISNUMBER(J5)),I5*J5,0) -> 576.52 | L5: Paket SoWi Classics | M5: ja | N5: QRD;QDHC;DSB | O5: Philosophie & Religion | P5: =IF(LEFT(L5,13)="Inlibra Paket","nein – Frontlist 2026",IF(K5<=0,"nein – Preis fehlt","ja")) -> ja | Q5: =IF(H5="","",INDEX(Klasse_Name,MATCH(H5,Klasse_ab,1))) -> 2013–2016 | R5: =IF(H5="",0,INDEX(Klasse_Rabatt,MATCH(H5,Klasse_ab,1))) -> 0.4 | S5: =IF(P5="ja",K5*(1-R5),0) -> 345.912 | U5: =IF(OR(T5="x",ISNUMBER(MATCH(SUBSTITUTE(A5,"-",""),Kundenbestand!$C$5:$C$3004,0)),ISNUMBER(MATCH(SUBSTITUTE(B5,"-",""),Kundenbestand!$C$5:$C$3004,0))),"x","") | V5: =IF(U5="x",S5,0) -> 0
A6: 978-3-458-73504-5 | B6: 978-3-458-70044-9 | C6: Verlag der Weltreligionen | D6: Meisig | E6: Samyutta-Nikāya - Die gruppierte Sammlung der Lehrreden des Buddha | G6: 41617 | H6: =IF(ISNUMBER(G6),YEAR(G6),"") -> 2013 | I6: 364 | J6: 1.42 | K6: =IF(AND(ISNUMBER(I6),ISNUMBER(J6)),I6*J6,0) -> 516.88 | L6: Paket SoWi Classics | M6: ja | N6: QRFF;QDHC;DSB | O6: Philosophie & Religion | P6: =IF(LEFT(L6,13)="Inlibra Paket","nein – Frontlist 2026",IF(K6<=0,"nein – Preis fehlt","ja")) -> ja | Q6: =IF(H6="","",INDEX(Klasse_Name,MATCH(H6,Klasse_ab,1))) -> 2013–2016 | R6: =IF(H6="",0,INDEX(Klasse_Rabatt,MATCH(H6,Klasse_ab,1))) -> 0.4 | S6: =IF(P6="ja",K6*(1-R6),0) -> 310.128 | U6: =IF(OR(T6="x",ISNUMBER(MATCH(SUBSTITUTE(A6,"-",""),Kundenbestand!$C$5:$C$3004,0)),ISNUMBER(MATCH(SUBSTITUTE(B6,"-",""),Kundenbestand!$C$5:$C$3004,0))),"x","") | V6: =IF(U6="x",S6,0) -> 0
A7: 978-3-458-73867-1 | B7: 978-3-458-17618-3 | C7: Insel Verlag | D7: Prinz | E7: Teresa von Ávila | F7: Biographie | G7: 41897 | H7: =IF(ISNUMBER(G7),YEAR(G7),"") -> 2014 | I7: 160.65 | J7: 1.42 | K7: =IF(AND(ISNUMBER(I7),ISNUMBER(J7)),I7*J7,0) -> 228.123 | L7: Paket SoWi Classics | M7: ja | N7: DNBX;QRVK2;DNBL;1DSE;3MD | O7: Kultur, Literatur & Medien | P7: =IF(LEFT(L7,13)="Inlibra Paket","nein – Frontlist 2026",IF(K7<=0,"nein – Preis fehlt","ja")) -> ja | Q7: =IF(H7="","",INDEX(Klasse_Name,MATCH(H7,Klasse_ab,1))) -> 2013–2016 | R7: =IF(H7="",0,INDEX(Klasse_Rabatt,MATCH(H7,Klasse_ab,1))) -> 0.4 | S7: =IF(P7="ja",K7*(1-R7),0) -> 136.8738 | U7: =IF(OR(T7="x",ISNUMBER(MATCH(SUBSTITUTE(A7,"-",""),Kundenbestand!$C$5:$C$3004,0)),ISNUMBER(MATCH(SUBSTITUTE(B7,"-",""),Kundenbestand!$C$5:$C$3004,0))),"x","") | V7: =IF(U7="x",S7,0) -> 0
A8: 978-3-458-73969-2 | B8: 978-3-458-17600-8 | C8: Insel Verlag | D8: Schmid | E8: Gelassenheit | F8: Was wir gewinnen, wenn wir älter werden | G8: 41722 | H8: =IF(ISNUMBER(G8),YEAR(G8),"") -> 2014 | I8: 84 | J8: 1.42 | K8: =IF(AND(ISNUMBER(I8),ISNUMBER(J8)),I8*J8,0) -> 119.28 | L8: Paket SoWi Classics | M8: ja | N8: VFJG;QDX;VSP | O8: Soziologie, Gesellschaft & Wirtschaft | P8: =IF(LEFT(L8,13)="Inlibra Paket","nein – Frontlist 2026",IF(K8<=0,"nein – Preis fehlt","ja")) -> ja | Q8: =IF(H8="","",INDEX(Klasse_Name,MATCH(H8,Klasse_ab,1))) -> 2013–2016 | R8: =IF(H8="",0,INDEX(Klasse_Rabatt,MATCH(H8,Klasse_ab,1))) -> 0.4 | S8: =IF(P8="ja",K8*(1-R8),0) -> 71.568 | U8: =IF(OR(T8="x",ISNUMBER(MATCH(SUBSTITUTE(A8,"-",""),Kundenbestand!$C$5:$C$3004,0)),ISNUMBER(MATCH(SUBSTITUTE(B8,"-",""),Kundenbestand!$C$5:$C$3004,0))),"x","") | V8: =IF(U8="x",S8,0) -> 0
A9: 978-3-458-73973-9 | B9: 978-3-458-70046-3 | C9: Verlag der Weltreligionen | D9: Wittern | E9: Jingde chuandeng lu | F9: Aufzeichnungen von der Übertragung der Leuchte aus der Ära Jingde | G9: 41897 | H9: =IF(ISNUMBER(G9),YEAR(G9),"") -> 2014 | I9: 476 | J9: 1.42 | K9: =IF(AND(ISNUMBER(I9),ISNUMBER(J9)),I9*J9,0) -> 675.92 | L9: Paket SoWi Classics | M9: ja | N9: QRFF;1FPC;3K;QRAX | O9: Philosophie & Religion | P9: =IF(LEFT(L9,13)="Inlibra Paket","nein – Frontlist 2026",IF(K9<=0,"nein – Preis fehlt","ja")) -> ja | Q9: =IF(H9="","",INDEX(Klasse_Name,MATCH(H9,Klasse_ab,1))) -> 2013–2016 | R9: =IF(H9="",0,INDEX(Klasse_Rabatt,MATCH(H9,Klasse_ab,1))) -> 0.4 | S9: =IF(P9="ja",K9*(1-R9),0) -> 405.552 | U9: =IF(OR(T9="x",ISNUMBER(MATCH(SUBSTITUTE(A9,"-",""),Kundenbestand!$C$5:$C$3004,0)),ISNUMBER(MATCH(SUBSTITUTE(B9,"-",""),Kundenbestand!$C$5:$C$3004,0))),"x","") | V9: =IF(U9="x",S9,0) -> 0
A10: 978-3-458-74029-2 | B10: 978-3-458-17631-2 | C10: Insel Verlag | D10: Duerr | E10: Die dunkle Nacht der Seele | F10: Nahtoderfahrungen und Jenseitsreisen | G10: 42283 | H10: =IF(ISNUMBER(G10),YEAR(G10),"") -> 2015 | I10: 266 | J10: 1.42 | K10: =IF(AND(ISNUMBER(I10),ISNUMBER(J10)),I10*J10,0) -> 377.72 | L10: Paket SoWi Classics | M10: ja | N10: JHBZ;VXW;VXQ;QRYM2;GT;DN;3M;3K;3C | O10: Soziologie, Gesellschaft & Wirtschaft | P10: =IF(LEFT(L10,13)="Inlibra Paket","nein – Frontlist 2026",IF(K10<=0,"nein – Preis fehlt","ja")) -> ja | Q10: =IF(H10="","",INDEX(Klasse_Name,MATCH(H10,Klasse_ab,1))) -> 2013–2016 | R10: =IF(H10="",0,INDEX(Klasse_Rabatt,MATCH(H10,Klasse_ab,1))) -> 0.4 | S10: =IF(P10="ja",K10*(1-R10),0) -> 226.632 | U10: =IF(OR(T10="x",ISNUMBER(MATCH(SUBSTITUTE(A10,"-",""),Kundenbestand!$C$5:$C$3004,0)),ISNUMBER(MATCH(SUBSTITUTE(B10,"-",""),Kundenbestand!$C$5:$C$3004,0))),"x","") | V10: =IF(U10="x",S10,0) -> 0
A11: 978-3-458-74539-6 | B11: 978-3-458-17674-9 | C11: Insel Verlag | D11: Maletzke | E11: Maud Gonne | F11: Ein Leben für Irland | G11: 42471 | H11: =IF(ISNUMBER(G11),YEAR(G11),"") -> 2016 | I11: 174.65 | J11: 1.42 | K11: =IF(AND(ISNUMBER(I11),ISNUMBER(J11)),I11*J11,0) -> 248.003 | L11: Paket SoWi Classics | M11: ja | N11: DNB | O11: Kultur, Literatur & Medien | P11: =IF(LEFT(L11,13)="Inlibra Paket","nein – Frontlist 2026",IF(K11<=0,"nein – Preis fehlt","ja")) -> ja | Q11: =IF(H11="","",INDEX(Klasse_Name,MATCH(H11,Klasse_ab,1))) -> 2013–2016 | R11: =IF(H11="",0,INDEX(Klasse_Rabatt,MATCH(H11,Klasse_ab,1))) -> 0.4 | S11: =IF(P11="ja",K11*(1-R11),0) -> 148.8018 | U11: =IF(OR(T11="x",ISNUMBER(MATCH(SUBSTITUTE(A11,"-",""),Kundenbestand!$C$5:$C$3004,0)),ISNUMBER(MATCH(SUBSTITUTE(B11,"-",""),Kundenbestand!$C$5:$C$3004,0))),"x","") | V11: =IF(U11="x",S11,0) -> 0
A12: 978-3-458-74905-9 | B12: 978-3-458-17691-6 | C12: Insel Verlag | D12: Pettegree | E12: Die Marke Luther | F12: Wie ein unbekannter Mönch eine deutsche Kleinstadt zum Zentrum der Druckindustrie und sich selbst zum berühmtesten Mann Europas machte – und die protestantische Reformation lostrat | G12: 42653 | H12: =IF(ISNUMBER(G12),YEAR(G12),"") -> 2016 | I12: 196 | J12: 1.42 | K12: =IF(AND(ISNUMBER(I12),ISNUMBER(J12)),I12*J12,0) -> 278.32 | L12: Paket SoWi Classics | M12: ja | N12: NHDN;QRM;QR;NHTV;NHT;NHD;NHB;NH;N;JB;DNX;DNB;DN;1D;3MD | O12: Politik, Recht & Geschichte | P12: =IF(LEFT(L12,13)="Inlibra Paket","nein – Frontlist 2026",IF(K12<=0,"nein – Preis fehlt","ja")) -> ja | Q12: =IF(H12="","",INDEX(Klasse_Name,MATCH(H12,Klasse_ab,1))) -> 2013–2016 | R12: =IF(H12="",0,INDEX(Klasse_Rabatt,MATCH(H12,Klasse_ab,1))) -> 0.4 | S12: =IF(P12="ja",K12*(1-R12),0) -> 166.992 | U12: =IF(OR(T12="x",ISNUMBER(MATCH(SUBSTITUTE(A12,"-",""),Kundenbestand!$C$5:$C$3004,0)),ISNUMBER(MATCH(SUBSTITUTE(B12,"-",""),Kundenbestand!$C$5:$C$3004,0))),"x","") | V12: =IF(U12="x",S12,0) -> 0
A13: 978-3-458-74933-2 | B13: 978-3-458-36180-0 | C13: Insel Verlag | D13: Beuys | E13: Maria Sibylla Merian | F13: Künstlerin, Forscherin, Geschäftsfrau. Eine Biographie | G13: 42688 | H13: =IF(ISNUMBER(G13),YEAR(G13),"") -> 2016 | I13: 132.65 | J13: 1.42 | K13: =IF(AND(ISNUMBER(I13),ISNUMBER(J13)),I13*J13,0) -> 188.363 | L13: Paket SoWi Classics | M13: ja | N13: DNBT;DNBH;DNBF | O13: Kultur, Literatur & Medien | P13: =IF(LEFT(L13,13)="Inlibra Paket","nein – Frontlist 2026",IF(K13<=0,"nein – Preis fehlt","ja")) -> ja | Q13: =IF(H13="","",INDEX(Klasse_Name,MATCH(H13,Klasse_ab,1))) -> 2013–2016 | R13: =IF(H13="",0,INDEX(Klasse_Rabatt,MATCH(H13,Klasse_ab,1))) -> 0.4 | S13: =IF(P13="ja",K13*(1-R13),0) -> 113.0178 | U13: =IF(OR(T13="x",ISNUMBER(MATCH(SUBSTITUTE(A13,"-",""),Kundenbestand!$C$5:$C$3004,0)),ISNUMBER(MATCH(SUBSTITUTE(B13,"-",""),Kundenbestand!$C$5:$C$3004,0))),"x","") | V13: =IF(U13="x",S13,0) -> 0
A14: 978-3-458-74943-1 | B14: 978-3-458-17689-3 | C14: Insel Verlag | D14: Beuys | E14: Helene Schjerfbeck | F14: Die Malerin aus Finnland | G14: 42590 | H14: =IF(ISNUMBER(G14),YEAR(G14),"") -> 2016 | I14: 209.3 | J14: 1.42 | K14: =IF(AND(ISNUMBER(I14),ISNUMBER(J14)),I14*J14,0) -> 297.206 | L14: Paket SoWi Classics | M14: ja | N14: DNBF;3MPB;3MNQ | O14: Kultur, Literatur & Medien | P14: =IF(LEFT(L14,13)="Inlibra Paket","nein – Frontlist 2026",IF(K14<=0,"nein – Preis fehlt","ja")) -> ja | Q14: =IF(H14="","",INDEX(Klasse_Name,MATCH(H14,Klasse_ab,1))) -> 2013–2016 | R14: =IF(H14="",0,INDEX(Klasse_Rabatt,MATCH(H14,Klasse_ab,1))) -> 0.4 | S14: =IF(P14="ja",K14*(1-R14),0) -> 178.3236 | U14: =IF(OR(T14="x",ISNUMBER(MATCH(SUBSTITUTE(A14,"-",""),Kundenbestand!$C$5:$C$3004,0)),ISNUMBER(MATCH(SUBSTITUTE(B14,"-",""),Kundenbestand!$C$5:$C$3004,0))),"x","") | V14: =IF(U14="x",S14,0) -> 0
A15: 978-3-458-75888-4 | B15: 978-3-458-17747-0 | C15: Insel Verlag | D15: Beuys | E15: Sophie Charlotte | F15: Preußens erste Königin | G15: 43171 | H15: =IF(ISNUMBER(G15),YEAR(G15),"") -> 2018 | I15: 182 | J15: 1.42 | K15: =IF(AND(ISNUMBER(I15),ISNUMBER(J15)),I15*J15,0) -> 258.44 | L15: Paket SoWi Classics | M15: ja | N15: DNBR;DNBH | O15: Kultur, Literatur & Medien | P15: =IF(LEFT(L15,13)="Inlibra Paket","nein – Frontlist 2026",IF(K15<=0,"nein – Preis fehlt","ja")) -> ja | Q15: =IF(H15="","",INDEX(Klasse_Name,MATCH(H15,Klasse_ab,1))) -> 2017–2020 | R15: =IF(H15="",0,INDEX(Klasse_Rabatt,MATCH(H15,Klasse_ab,1))) -> 0.25 | S15: =IF(P15="ja",K15*(1-R15),0) -> 193.83 | U15: =IF(OR(T15="x",ISNUMBER(MATCH(SUBSTITUTE(A15,"-",""),Kundenbestand!$C$5:$C$3004,0)),ISNUMBER(MATCH(SUBSTITUTE(B15,"-",""),Kundenbestand!$C$5:$C$3004,0))),"x","") | V15: =IF(U15="x",S15,0) -> 0
A16: 978-3-458-76235-5 | B16: 978-3-458-17799-9 | C16: Insel Verlag | D16: Vinken/Sprenger | E16: Marcel Proust und die Frauen | F16: 18. Publikation der Marcel Proust Gesellschaft | G16: 43689 | H16: =IF(ISNUMBER(G16),YEAR(G16),"") -> 2019 | I16: 189 | J16: 1.42 | K16: =IF(AND(ISNUMBER(I16),ISNUMBER(J16)),I16*J16,0) -> 268.38 | L16: Paket SoWi Classics | M16: ja | N16: DSK | O16: Kultur, Literatur & Medien | P16: =IF(LEFT(L16,13)="Inlibra Paket","nein – Frontlist 2026",IF(K16<=0,"nein – Preis fehlt","ja")) -> ja | Q16: =IF(H16="","",INDEX(Klasse_Name,MATCH(H16,Klasse_ab,1))) -> 2017–2020 | R16: =IF(H16="",0,INDEX(Klasse_Rabatt,MATCH(H16,Klasse_ab,1))) -> 0.25 | S16: =IF(P16="ja",K16*(1-R16),0) -> 201.285 | U16: =IF(OR(T16="x",ISNUMBER(MATCH(SUBSTITUTE(A16,"-",""),Kundenbestand!$C$5:$C$3004,0)),ISNUMBER(MATCH(SUBSTITUTE(B16,"-",""),Kundenbestand!$C$5:$C$3004,0))),"x","") | V16: =IF(U16="x",S16,0) -> 0
A17: 978-3-458-76240-9 | B17: 978-3-458-17787-6 | C17: Insel Verlag | D17: Vahland | E17: Leonardo da Vinci und die Frauen | F17: Eine Künstlerbiographie | G17: 43535 | H17: =IF(ISNUMBER(G17),YEAR(G17),"") -> 2019 | I17: 196 | J17: 1.42 | K17: =IF(AND(ISNUMBER(I17),ISNUMBER(J17)),I17*J17,0) -> 278.32 | L17: Paket SoWi Classics | M17: ja | N17: AFC;A;AB;AFF;AGA;AGB | O17: Kultur, Literatur & Medien | P17: =IF(LEFT(L17,13)="Inlibra Paket","nein – Frontlist 2026",IF(K17<=0,"nein – Preis fehlt","ja")) -> ja | Q17: =IF(H17="","",INDEX(Klasse_Name,MATCH(H17,Klasse_ab,1))) -> 2017–2020 | R17: =IF(H17="",0,INDEX(Klasse_Rabatt,MATCH(H17,Klasse_ab,1))) -> 0.25 | S17: =IF(P17="ja",K17*(1-R17),0) -> 208.74 | U17: =IF(OR(T17="x",ISNUMBER(MATCH(SUBSTITUTE(A17,"-",""),Kundenbestand!$C$5:$C$3004,0)),ISNUMBER(MATCH(SUBSTITUTE(B17,"-",""),Kundenbestand!$C$5:$C$3004,0))),"x","") | V17: =IF(U17="x",S17,0) -> 0
A18: 978-3-458-76249-2 | B18: 978-3-458-36422-1 | C18: Insel Verlag | D18: Gandhi/Kämpchen | E18: Die große Seele – Die Weisheit des Mahatma Gandhi | G18: 43689 | H18: =IF(ISNUMBER(G18),YEAR(G18),"") -> 2019 | I18: 56 | J18: 1.42 | K18: =IF(AND(ISNUMBER(I18),ISNUMBER(J18)),I18*J18,0) -> 79.52 | L18: Paket SoWi Classics | M18: ja | N18: DNT;3MP;GBCQ;JPVH;QRD;QRF;QRRC;WZG | O18: Kultur, Literatur & Medien | P18: =IF(LEFT(L18,13)="Inlibra Paket","nein – Frontlist 2026",IF(K18<=0,"nein – Preis fehlt","ja")) -> ja | Q18: =IF(H18="","",INDEX(Klasse_Name,MATCH(H18,Klasse_ab,1))) -> 2017–2020 | R18: =IF(H18="",0,INDEX(Klasse_Rabatt,MATCH(H18,Klasse_ab,1))) -> 0.25 | S18: =IF(P18="ja",K18*(1-R18),0) -> 59.64 | U18: =IF(OR(T18="x",ISNUMBER(MATCH(SUBSTITUTE(A18,"-",""),Kundenbestand!$C$5:$C$3004,0)),ISNUMBER(MATCH(SUBSTITUTE(B18,"-",""),Kundenbestand!$C$5:$C$3004,0))),"x","") | V18: =IF(U18="x",S18,0) -> 0
A19: 978-3-458-76260-7 | B19: 978-3-458-36419-1 | C19: Insel Verlag | D19: Humboldt/Thomas | E19: Die Kosmos-Vorlesung | G19: 43689 | H19: =IF(ISNUMBER(G19),YEAR(G19),"") -> 2019 | I19: 112 | J19: 1.42 | K19: =IF(AND(ISNUMBER(I19),ISNUMBER(J19)),I19*J19,0) -> 159.04 | L19: Paket SoWi Classics | M19: ja | N19: GTB;PDX | O19: Kultur, Literatur & Medien | P19: =IF(LEFT(L19,13)="Inlibra Paket","nein – Frontlist 2026",IF(K19<=0,"nein – Preis fehlt","ja")) -> ja | Q19: =IF(H19="","",INDEX(Klasse_Name,MATCH(H19,Klasse_ab,1))) -> 2017–2020 | R19: =IF(H19="",0,INDEX(Klasse_Rabatt,MATCH(H19,Klasse_ab,1))) -> 0.25 | S19: =IF(P19="ja",K19*(1-R19),0) -> 119.28 | U19: =IF(OR(T19="x",ISNUMBER(MATCH(SUBSTITUTE(A19,"-",""),Kundenbestand!$C$5:$C$3004,0)),ISNUMBER(MATCH(SUBSTITUTE(B19,"-",""),Kundenbestand!$C$5:$C$3004,0))),"x","") | V19: =IF(U19="x",S19,0) -> 0
A20: 978-3-458-76397-0 | B20: 978-3-458-17822-4 | C20: Insel Verlag | D20: Flannery | E20: Europa | F20: Die ersten 100 Millionen Jahre | »Tim Flannery ist eine Mischung aus Indiana Jones und Charles Darwin.« (Financial Times) | G20: 43780 | H20: =IF(ISNUMBER(G20),YEAR(G20),"") -> 2019 | I20: 196 | J20: 1.42 | K20: =IF(AND(ISNUMBER(I20),ISNUMBER(J20)),I20*J20,0) -> 278.32 | L20: Paket SoWi Classics | M20: ja | N20: NHD;1D;3B;3C;3K;3M;N;NH;NHB;NKD;NKL;NKP;R;RB;RBG;RBGF;RBX;RG;RGC;RGL;RGR;RN;RNK;RNP | O20: Politik, Recht & Geschichte | P20: =IF(LEFT(L20,13)="Inlibra Paket","nein – Frontlist 2026",IF(K20<=0,"nein – Preis fehlt","ja")) -> ja | Q20: =IF(H20="","",INDEX(Klasse_Name,MATCH(H20,Klasse_ab,1))) -> 2017–2020 | R20: =IF(H20="",0,INDEX(Klasse_Rabatt,MATCH(H20,Klasse_ab,1))) -> 0.25 | S20: =IF(P20="ja",K20*(1-R20),0) -> 208.74 | U20: =IF(OR(T20="x",ISNUMBER(MATCH(SUBSTITUTE(A20,"-",""),Kundenbestand!$C$5:$C$3004,0)),ISNUMBER(MATCH(SUBSTITUTE(B20,"-",""),Kundenbestand!$C$5:$C$3004,0))),"x","") | V20: =IF(U20="x",S20,0) -> 0
A21: 978-3-458-76569-1 | B21: 978-3-458-17841-5 | C21: Insel Verlag | D21: Beuys | E21: Asta Nielsen | F21: Filmgenie und Neue Frau | G21: 43913 | H21: =IF(ISNUMBER(G21),YEAR(G21),"") -> 2020 | I21: 175 | J21: 1.42 | K21: =IF(AND(ISNUMBER(I21),ISNUMBER(J21)),I21*J21,0) -> 248.5 | L21: Paket SoWi Classics | M21: ja | N21: DNB;ATC | O21: Kultur, Literatur & Medien | P21: =IF(LEFT(L21,13)="Inlibra Paket","nein – Frontlist 2026",IF(K21<=0,"nein – Preis fehlt","ja")) -> ja | Q21: =IF(H21="","",INDEX(Klasse_Name,MATCH(H21,Klasse_ab,1))) -> 2017–2020 | R21: =IF(H21="",0,INDEX(Klasse_Rabatt,MATCH(H21,Klasse_ab,1))) -> 0.25 | S21: =IF(P21="ja",K21*(1-R21),0) -> 186.375 | U21: =IF(OR(T21="x",ISNUMBER(MATCH(SUBSTITUTE(A21,"-",""),Kundenbestand!$C$5:$C$3004,0)),ISNUMBER(MATCH(SUBSTITUTE(B21,"-",""),Kundenbestand!$C$5:$C$3004,0))),"x","") | V21: =IF(U21="x",S21,0) -> 0
A22: 978-3-458-76572-1 | B22: 978-3-458-17844-6 | C22: Insel Verlag | D22: Duerr | E22: Diesseits von Eden | F22: Über den Ursprung der Religion | G22: 44060 | H22: =IF(ISNUMBER(G22),YEAR(G22),"") -> 2020 | I22: 266 | J22: 1.42 | K22: =IF(AND(ISNUMBER(I22),ISNUMBER(J22)),I22*J22,0) -> 377.72 | L22: Paket SoWi Classics | M22: ja | N22: QRAC;QRAM3;QRAX;QRYC;VXWS | O22: Philosophie & Religion | P22: =IF(LEFT(L22,13)="Inlibra Paket","nein – Frontlist 2026",IF(K22<=0,"nein – Preis fehlt","ja")) -> ja | Q22: =IF(H22="","",INDEX(Klasse_Name,MATCH(H22,Klasse_ab,1))) -> 2017–2020 | R22: =IF(H22="",0,INDEX(Klasse_Rabatt,MATCH(H22,Klasse_ab,1))) -> 0.25 | S22: =IF(P22="ja",K22*(1-R22),0) -> 283.29 | U22: =IF(OR(T22="x",ISNUMBER(MATCH(SUBSTITUTE(A22,"-",""),Kundenbestand!$C$5:$C$3004,0)),ISNUMBER(MATCH(SUBSTITUTE(B22,"-",""),Kundenbestand!$C$5:$C$3004,0))),"x","") | V22: =IF(U22="x",S22,0) -> 0
A23: 978-3-458-76708-4 | B23: 978-3-458-17869-9 | C23: Insel Verlag | D23: Marozzi | E23: Islamische Imperien | F23: Die Geschichte einer Zivilisation in fünfzehn Städten | »Eine herausragende Geschichte des Islam.« Peter Frankopan | G23: 44179 | H23: =IF(ISNUMBER(G23),YEAR(G23),"") -> 2020 | I23: 196 | J23: 1.42 | K23: =IF(AND(ISNUMBER(I23),ISNUMBER(J23)),I23*J23,0) -> 278.32 | L23: Paket SoWi Classics | M23: ja | N23: NH;N;NHB;NHD;NHF;NHG;NHH;NHTB;NHTQ;NHTV;NHWF;NHWL;NHWR;Q;QR;QRP | O23: Politik, Recht & Geschichte | P23: =IF(LEFT(L23,13)="Inlibra Paket","nein – Frontlist 2026",IF(K23<=0,"nein – Preis fehlt","ja")) -> ja | Q23: =IF(H23="","",INDEX(Klasse_Name,MATCH(H23,Klasse_ab,1))) -> 2017–2020 | R23: =IF(H23="",0,INDEX(Klasse_Rabatt,MATCH(H23,Klasse_ab,1))) -> 0.25 | S23: =IF(P23="ja",K23*(1-R23),0) -> 208.74 | U23: =IF(OR(T23="x",ISNUMBER(MATCH(SUBSTITUTE(A23,"-",""),Kundenbestand!$C$5:$C$3004,0)),ISNUMBER(MATCH(SUBSTITUTE(B23,"-",""),Kundenbestand!$C$5:$C$3004,0))),"x","") | V23: =IF(U23="x",S23,0) -> 0
A24: 978-3-458-77333-7 | B24: 978-3-458-17943-6 | C24: Insel Verlag | D24: Ribbat | E24: Wie die Queen. Die deutsch-jüdische Geschichte einer sehr britischen Schriftstellerin | G24: 44731 | H24: =IF(ISNUMBER(G24),YEAR(G24),"") -> 2022 | I24: 168 | J24: 1.42 | K24: =IF(AND(ISNUMBER(I24),ISNUMBER(J24)),I24*J24,0) -> 238.56 | L24: Paket SoWi Classics | M24: ja | N24: DNBL;1DDU | O24: Kultur, Literatur & Medien | P24: =IF(LEFT(L24,13)="Inlibra Paket","nein – Frontlist 2026",IF(K24<=0,"nein – Preis fehlt","ja")) -> ja | Q24: =IF(H24="","",INDEX(Klasse_Name,MATCH(H24,Klasse_ab,1))) -> 2021–2025 | R24: =IF(H24="",0,INDEX(Klasse_Rabatt,MATCH(H24,Klasse_ab,1))) -> 0.1 | S24: =IF(P24="ja",K24*(1-R24),0) -> 214.704 | U24: =IF(OR(T24="x",ISNUMBER(MATCH(SUBSTITUTE(A24,"-",""),Kundenbestand!$C$5:$C$3004,0)),ISNUMBER(MATCH(SUBSTITUTE(B24,"-",""),Kundenbestand!$C$5:$C$3004,0))),"x","") | V24: =IF(U24="x",S24,0) -> 0
A25: 978-3-458-78153-0 | B25: 978-3-458-16829-4 | C25: Insel Verlag | D25: Rilke/Fülleborn/Engel | E25: Werke. Kommentierte Ausgabe in vier Bänden mit einem Supplementband | F25: Band 1: Gedichte 1895 bis 1910 | G25: 35331 | H25: =IF(ISNUMBER(G25),YEAR(G25),"") -> 1996 | I25: 434 | J25: 1.42 | K25: =IF(AND(ISNUMBER(I25),ISNUMBER(J25)),I25*J25,0) -> 616.28 | L25: Paket SoWi Classics | M25: ja | O25: Werkausgaben & Editionen | P25: =IF(LEFT(L25,13)="Inlibra Paket","nein – Frontlist 2026",IF(K25<=0,"nein – Preis fehlt","ja")) -> ja | Q25: =IF(H25="","",INDEX(Klasse_Name,MATCH(H25,Klasse_ab,1))) -> bis 2012 | R25: =IF(H25="",0,INDEX(Klasse_Rabatt,MATCH(H25,Klasse_ab,1))) -> 0.5 | S25: =IF(P25="ja",K25*(1-R25),0) -> 308.14 | U25: =IF(OR(T25="x",ISNUMBER(MATCH(SUBSTITUTE(A25,"-",""),Kundenbestand!$C$5:$C$3004,0)),ISNUMBER(MATCH(SUBSTITUTE(B25,"-",""),Kundenbestand!$C$5:$C$3004,0))),"x","") | V25: =IF(U25="x",S25,0) -> 0
A26: 978-3-458-78154-7 | B26: 978-3-458-16830-0 | C26: Insel Verlag | D26: Rilke/Fülleborn/Engel | E26: Werke. Kommentierte Ausgabe in vier Bänden mit einem Supplementband | F26: Band 2: Gedichte 1910 bis 1926 | G26: 35331 | H26: =IF(ISNUMBER(G26),YEAR(G26),"") -> 1996 | I26: 434 | J26: 1.42 | K26: =IF(AND(ISNUMBER(I26),ISNUMBER(J26)),I26*J26,0) -> 616.28 | L26: Paket SoWi Classics | M26: ja | O26: Werkausgaben & Editionen | P26: =IF(LEFT(L26,13)="Inlibra Paket","nein – Frontlist 2026",IF(K26<=0,"nein – Preis fehlt","ja")) -> ja | Q26: =IF(H26="","",INDEX(Klasse_Name,MATCH(H26,Klasse_ab,1))) -> bis 2012 | R26: =IF(H26="",0,INDEX(Klasse_Rabatt,MATCH(H26,Klasse_ab,1))) -> 0.5 | S26: =IF(P26="ja",K26*(1-R26),0) -> 308.14 | U26: =IF(OR(T26="x",ISNUMBER(MATCH(SUBSTITUTE(A26,"-",""),Kundenbestand!$C$5:$C$3004,0)),ISNUMBER(MATCH(SUBSTITUTE(B26,"-",""),Kundenbestand!$C$5:$C$3004,0))),"x","") | V26: =IF(U26="x",S26,0) -> 0
A27: 978-3-458-78155-4 | B27: 978-3-458-16831-7 | C27: Insel Verlag | D27: Rilke/Stahl | E27: Werke. Kommentierte Ausgabe in vier Bänden mit einem Supplemantband | F27: Band 3: Erzählungen und Dramen. Die Aufzeichnungen des Malte Laurids Brigge | G27: 35331 | H27: =IF(ISNUMBER(G27),YEAR(G27),"") -> 1996 | I27: 434 | J27: 1.42 | K27: =IF(AND(ISNUMBER(I27),ISNUMBER(J27)),I27*J27,0) -> 616.28 | L27: Paket SoWi Classics | M27: ja | O27: Werkausgaben & Editionen | P27: =IF(LEFT(L27,13)="Inlibra Paket","nein – Frontlist 2026",IF(K27<=0,"nein – Preis fehlt","ja")) -> ja | Q27: =IF(H27="","",INDEX(Klasse_Name,MATCH(H27,Klasse_ab,1))) -> bis 2012 | R27: =IF(H27="",0,INDEX(Klasse_Rabatt,MATCH(H27,Klasse_ab,1))) -> 0.5 | S27: =IF(P27="ja",K27*(1-R27),0) -> 308.14 | U27: =IF(OR(T27="x",ISNUMBER(MATCH(SUBSTITUTE(A27,"-",""),Kundenbestand!$C$5:$C$3004,0)),ISNUMBER(MATCH(SUBSTITUTE(B27,"-",""),Kundenbestand!$C$5:$C$3004,0))),"x","") | V27: =IF(U27="x",S27,0) -> 0
A28: 978-3-458-78156-1 | B28: 978-3-458-16832-4 | C28: Insel Verlag | D28: Rilke/Nalewski | E28: Werke. Kommentierte Ausgabe in vier Bänden mit einem Supplemantband | F28: Band 4: Schriften zur Literatur und Kunst | G28: 35331 | H28: =IF(ISNUMBER(G28),YEAR(G28),"") -> 1996 | I28: 434 | J28: 1.42 | K28: =IF(AND(ISNUMBER(I28),ISNUMBER(J28)),I28*J28,0) -> 616.28 | L28: Paket SoWi Classics | M28: ja | O28: Werkausgaben & Editionen | P28: =IF(LEFT(L28,13)="Inlibra Paket","nein – Frontlist 2026",IF(K28<=0,"nein – Preis fehlt","ja")) -> ja | Q28: =IF(H28="","",INDEX(Klasse_Name,MATCH(H28,Klasse_ab,1))) -> bis 2012 | R28: =IF(H28="",0,INDEX(Klasse_Rabatt,MATCH(H28,Klasse_ab,1))) -> 0.5 | S28: =IF(P28="ja",K28*(1-R28),0) -> 308.14 | U28: =IF(OR(T28="x",ISNUMBER(MATCH(SUBSTITUTE(A28,"-",""),Kundenbestand!$C$5:$C$3004,0)),ISNUMBER(MATCH(SUBSTITUTE(B28,"-",""),Kundenbestand!$C$5:$C$3004,0))),"x","") | V28: =IF(U28="x",S28,0) -> 0
A29: 978-3-458-78157-8 | B29: 978-3-458-17146-1 | C29: Insel Verlag | D29: Rilke/Engel/Lauterbach | E29: Werke. Kommentierte Ausgabe in vier Bänden mit einem Supplementband | F29: Supplementband zur Kommentierten Ausgabe. Gedichte in französischer Sprache. Mit deutschen Prosafassungen | G29: 37732 | H29: =IF(ISNUMBER(G29),YEAR(G29),"") -> 2003 | I29: 266 | J29: 1.42 | K29: =IF(AND(ISNUMBER(I29),ISNUMBER(J29)),I29*J29,0) -> 377.72 | L29: Paket SoWi Classics | M29: ja | N29: DCC;DSBH;DSC;DCF;DCQ;3MP | O29: Werkausgaben & Editionen | P29: =IF(LEFT(L29,13)="Inlibra Paket","nein – Frontlist 2026",IF(K29<=0,"nein – Preis fehlt","ja")) -> ja | Q29: =IF(H29="","",INDEX(Klasse_Name,MATCH(H29,Klasse_ab,1))) -> bis 2012 | R29: =IF(H29="",0,INDEX(Klasse_Rabatt,MATCH(H29,Klasse_ab,1))) -> 0.5 | S29: =IF(P29="ja",K29*(1-R29),0) -> 188.86 | U29: =IF(OR(T29="x",ISNUMBER(MATCH(SUBSTITUTE(A29,"-",""),Kundenbestand!$C$5:$C$3004,0)),ISNUMBER(MATCH(SUBSTITUTE(B29,"-",""),Kundenbestand!$C$5:$C$3004,0))),"x","") | V29: =IF(U29="x",S29,0) -> 0
A30: 978-3-518-73040-9 | B30: 978-3-518-58329-6 | C30: Suhrkamp Verlag | D30: Elias/Blomert/Hammer/Heilbron/Treibel/Wilterdink/Norbert Elias Stichting | E30: Gesammelte Schriften in 19 Bänden | F30: Band 2: Die höfische Gesellschaft. Untersuchungen zur Soziologie des Königtums und der höfischen Aristokratie | G30: 37550 | H30: =IF(ISNUMBER(G30),YEAR(G30),"") -> 2002 | I30: 230.3 | J30: 1.42 | K30: =IF(AND(ISNUMBER(I30),ISNUMBER(J30)),I30*J30,0) -> 327.026 | L30: Paket SoWi Classics | M30: ja | N30: NHTB;NHD;JHBA;JBS;1D;3ML;3MG;3MD | O30: Werkausgaben & Editionen | P30: =IF(LEFT(L30,13)="Inlibra Paket","nein – Frontlist 2026",IF(K30<=0,"nein – Preis fehlt","ja")) -> ja | Q30: =IF(H30="","",INDEX(Klasse_Name,MATCH(H30,Klasse_ab,1))) -> bis 2012 | R30: =IF(H30="",0,INDEX(Klasse_Rabatt,MATCH(H30,Klasse_ab,1))) -> 0.5 | S30: =IF(P30="ja",K30*(1-R30),0) -> 163.513 | U30: =IF(OR(T30="x",ISNUMBER(MATCH(SUBSTITUTE(A30,"-",""),Kundenbestand!$C$5:$C$3004,0)),ISNUMBER(MATCH(SUBSTITUTE(B30,"-",""),Kundenbestand!$C$5:$C$3004,0))),"x","") | V30: =IF(U30="x",S30,0) -> 0
A31: 978-3-518-73056-0 | B31: 978-3-518-58245-9 | C31: Suhrkamp Verlag | D31: Elias/Hammer/Heilbron/Merz-Benz/Treibel/Wilterdink | E31: Gesammelte Schriften in 19 Bänden | F31: Band 3.1: Über den Prozeß der Zivilisation. Soziogenetische und psychogenetische Untersuchungen | G31: 35602 | H31: =IF(ISNUMBER(G31),YEAR(G31),"") -> 1997 | I31: 201.6 | J31: 1.42 | K31: =IF(AND(ISNUMBER(I31),ISNUMBER(J31)),I31*J31,0) -> 286.272 | L31: Paket SoWi Classics | M31: ja | O31: Werkausgaben & Editionen | P31: =IF(LEFT(L31,13)="Inlibra Paket","nein – Frontlist 2026",IF(K31<=0,"nein – Preis fehlt","ja")) -> ja | Q31: =IF(H31="","",INDEX(Klasse_Name,MATCH(H31,Klasse_ab,1))) -> bis 2012 | R31: =IF(H31="",0,INDEX(Klasse_Rabatt,MATCH(H31,Klasse_ab,1))) -> 0.5 | S31: =IF(P31="ja",K31*(1-R31),0) -> 143.136 | U31: =IF(OR(T31="x",ISNUMBER(MATCH(SUBSTITUTE(A31,"-",""),Kundenbestand!$C$5:$C$3004,0)),ISNUMBER(MATCH(SUBSTITUTE(B31,"-",""),Kundenbestand!$C$5:$C$3004,0))),"x","") | V31: =IF(U31="x",S31,0) -> 0
A32: 978-3-518-73061-4 | B32: 978-3-518-58318-0 | C32: Suhrkamp Verlag | D32: Elias/Wilterdink/Hammer/Heilbron/Treibel/Blomert | E32: Gesammelte Schriften in 19 Bänden | F32: Band 4: Etablierte und Außenseiter | G32: 37396 | H32: =IF(ISNUMBER(G32),YEAR(G32),"") -> 2002 | I32: 224 | J32: 1.42 | K32: =IF(AND(ISNUMBER(I32),ISNUMBER(J32)),I32*J32,0) -> 318.08 | L32: Paket SoWi Classics | M32: ja | N32: JBSC;NHTB;NHD;JHBA;JHB;JBS;1DDU | O32: Werkausgaben & Editionen | P32: =IF(LEFT(L32,13)="Inlibra Paket","nein – Frontlist 2026",IF(K32<=0,"nein – Preis fehlt","ja")) -> ja | Q32: =IF(H32="","",INDEX(Klasse_Name,MATCH(H32,Klasse_ab,1))) -> bis 2012 | R32: =IF(H32="",0,INDEX(Klasse_Rabatt,MATCH(H32,Klasse_ab,1))) -> 0.5 | S32: =IF(P32="ja",K32*(1-R32),0) -> 159.04 | U32: =IF(OR(T32="x",ISNUMBER(MATCH(SUBSTITUTE(A32,"-",""),Kundenbestand!$C$5:$C$3004,0)),ISNUMBER(MATCH(SUBSTITUTE(B32,"-",""),Kundenbestand!$C$5:$C$3004,0))),"x","") | V32: =IF(U32="x",S32,0) -> 0
A33: 978-3-518-73066-9 | B33: 978-3-518-58429-3 | C33: Suhrkamp Verlag | D33: Elias | E33: Gesammelte Schriften in 19 Bänden | F33: Band 5: Was ist Soziologie? | G33: 39048 | H33: =IF(ISNUMBER(G33),YEAR(G33),"") -> 2006 | I33: 224 | J33: 1.42 | K33: =IF(AND(ISNUMBER(I33),ISNUMBER(J33)),I33*J33,0) -> 318.08 | L33: Paket SoWi Classics | M33: ja | N33: JHB;GB | O33: Werkausgaben & Editionen | P33: =IF(LEFT(L33,13)="Inlibra Paket","nein – Frontlist 2026",IF(K33<=0,"nein – Preis fehlt","ja")) -> ja | Q33: =IF(H33="","",INDEX(Klasse_Name,MATCH(H33,Klasse_ab,1))) -> bis 2012 | R33: =IF(H33="",0,INDEX(Klasse_Rabatt,MATCH(H33,Klasse_ab,1))) -> 0.5 | S33: =IF(P33="ja",K33*(1-R33),0) -> 159.04 | U33: =IF(OR(T33="x",ISNUMBER(MATCH(SUBSTITUTE(A33,"-",""),Kundenbestand!$C$5:$C$3004,0)),ISNUMBER(MATCH(SUBSTITUTE(B33,"-",""),Kundenbestand!$C$5:$C$3004,0))),"x","") | V33: =IF(U33="x",S33,0) -> 0
A34: 978-3-518-73081-2 | B34: 978-3-518-58351-7 | C34: Suhrkamp Verlag | D34: Elias/Blomert/Hammer/Heilbron/Treibel/Wilterdink | E34: Gesammelte Schriften in 19 Bänden | F34: Band 6: Über die Einsamkeit der Sterbenden in unseren Tagen/Humana conditio | G34: 37550 | H34: =IF(ISNUMBER(G34),YEAR(G34),"") -> 2002 | I34: 209.3 | J34: 1.42 | K34: =IF(AND(ISNUMBER(I34),ISNUMBER(J34)),I34*J34,0) -> 297.206 | L34: Paket SoWi Classics | M34: ja | N34: JHBZ;GT | O34: Werkausgaben & Editionen | P34: =IF(LEFT(L34,13)="Inlibra Paket","nein – Frontlist 2026",IF(K34<=0,"nein – Preis fehlt","ja")) -> ja | Q34: =IF(H34="","",INDEX(Klasse_Name,MATCH(H34,Klasse_ab,1))) -> bis 2012 | R34: =IF(H34="",0,INDEX(Klasse_Rabatt,MATCH(H34,Klasse_ab,1))) -> 0.5 | S34: =IF(P34="ja",K34*(1-R34),0) -> 148.603 | U34: =IF(OR(T34="x",ISNUMBER(MATCH(SUBSTITUTE(A34,"-",""),Kundenbestand!$C$5:$C$3004,0)),ISNUMBER(MATCH(SUBSTITUTE(B34,"-",""),Kundenbestand!$C$5:$C$3004,0))),"x","") | V34: =IF(U34="x",S34,0) -> 0
A35: 978-3-518-73114-7 | B35: 978-3-518-42372-1 | C35: Suhrkamp Verlag | D35: Menzel | E35: Die Ordnung der Welt | G35: 42133 | H35: =IF(ISNUMBER(G35),YEAR(G35),"") -> 2015 | I35: 349.65 | J35: 1.42 | K35: =IF(AND(ISNUMBER(I35),ISNUMBER(J35)),I35*J35,0) -> 496.503 | L35: Paket SoWi Classics | M35: ja | N35: NHB;JPH;JPB;JP;GTQ | O35: Politik, Recht & Geschichte | P35: =IF(LEFT(L35,13)="Inlibra Paket","nein – Frontlist 2026",IF(K35<=0,"nein – Preis fehlt","ja")) -> ja | Q35: =IF(H35="","",INDEX(Klasse_Name,MATCH(H35,Klasse_ab,1))) -> 2013–2016 | R35: =IF(H35="",0,INDEX(Klasse_Rabatt,MATCH(H35,Klasse_ab,1))) -> 0.4 | S35: =IF(P35="ja",K35*(1-R35),0) -> 297.9018 | U35: =IF(OR(T35="x",ISNUMBER(MATCH(SUBSTITUTE(A35,"-",""),Kundenbestand!$C$5:$C$3004,0)),ISNUMBER(MATCH(SUBSTITUTE(B35,"-",""),Kundenbestand!$C$5:$C$3004,0))),"x","") | V35: =IF(U35="x",S35,0) -> 0
A36: 978-3-518-73176-5 | B36: 978-3-518-58363-0 | C36: Suhrkamp Verlag | D36: Elias | E36: Gesammelte Schriften in 19 Bänden | F36: Band 7: Norbert Elias und Eric Dunning, Sport und Spannung im Prozeß der Zivilisation | G36: 37760 | H36: =IF(ISNUMBER(G36),YEAR(G36),"") -> 2003 | I36: 244.3 | J36: 1.42 | K36: =IF(AND(ISNUMBER(I36),ISNUMBER(J36)),I36*J36,0) -> 346.906 | L36: Paket SoWi Classics | M36: ja | N36: JHBS;SCGP;NHTB | O36: Werkausgaben & Editionen | P36: =IF(LEFT(L36,13)="Inlibra Paket","nein – Frontlist 2026",IF(K36<=0,"nein – Preis fehlt","ja")) -> ja | Q36: =IF(H36="","",INDEX(Klasse_Name,MATCH(H36,Klasse_ab,1))) -> bis 2012 | R36: =IF(H36="",0,INDEX(Klasse_Rabatt,MATCH(H36,Klasse_ab,1))) -> 0.5 | S36: =IF(P36="ja",K36*(1-R36),0) -> 173.453 | U36: =IF(OR(T36="x",ISNUMBER(MATCH(SUBSTITUTE(A36,"-",""),Kundenbestand!$C$5:$C$3004,0)),ISNUMBER(MATCH(SUBSTITUTE(B36,"-",""),Kundenbestand!$C$5:$C$3004,0))),"x","") | V36: =IF(U36="x",S36,0) -> 0
A37: 978-3-518-73281-6 | B37: 978-3-518-58381-4 | C37: Suhrkamp Verlag | D37: Elias/Schröter | E37: Gesammelte Schriften in 19 Bänden | F37: Band 8: Engagement und Distanzierung | G37: 37949 | H37: =IF(ISNUMBER(G37),YEAR(G37),"") -> 2003 | I37: 224 | J37: 1.42 | K37: =IF(AND(ISNUMBER(I37),ISNUMBER(J37)),I37*J37,0) -> 318.08 | L37: Paket SoWi Classics | M37: ja | N37: GT;QD;JNZ | O37: Werkausgaben & Editionen | P37: =IF(LEFT(L37,13)="Inlibra Paket","nein – Frontlist 2026",IF(K37<=0,"nein – Preis fehlt","ja")) -> ja | Q37: =IF(H37="","",INDEX(Klasse_Name,MATCH(H37,Klasse_ab,1))) -> bis 2012 | R37: =IF(H37="",0,INDEX(Klasse_Rabatt,MATCH(H37,Klasse_ab,1))) -> 0.5 | S37: =IF(P37="ja",K37*(1-R37),0) -> 159.04 | U37: =IF(OR(T37="x",ISNUMBER(MATCH(SUBSTITUTE(A37,"-",""),Kundenbestand!$C$5:$C$3004,0)),ISNUMBER(MATCH(SUBSTITUTE(B37,"-",""),Kundenbestand!$C$5:$C$3004,0))),"x","") | V37: =IF(U37="x",S37,0) -> 0
A38: 978-3-518-73296-0 | B38: 978-3-518-58421-7 | C38: Suhrkamp Verlag | D38: Elias/Schröter | E38: Gesammelte Schriften in 19 Bänden | F38: Band 9: Über die Zeit | G38: 38285 | H38: =IF(ISNUMBER(G38),YEAR(G38),"") -> 2004 | I38: 201.6 | J38: 1.42 | K38: =IF(AND(ISNUMBER(I38),ISNUMBER(J38)),I38*J38,0) -> 286.272 | L38: Paket SoWi Classics | M38: ja | N38: QDHR;NHTB;JHBA;JHB | O38: Werkausgaben & Editionen | P38: =IF(LEFT(L38,13)="Inlibra Paket","nein – Frontlist 2026",IF(K38<=0,"nein – Preis fehlt","ja")) -> ja | Q38: =IF(H38="","",INDEX(Klasse_Name,MATCH(H38,Klasse_ab,1))) -> bis 2012 | R38: =IF(H38="",0,INDEX(Klasse_Rabatt,MATCH(H38,Klasse_ab,1))) -> 0.5 | S38: =IF(P38="ja",K38*(1-R38),0) -> 143.136 | U38: =IF(OR(T38="x",ISNUMBER(MATCH(SUBSTITUTE(A38,"-",""),Kundenbestand!$C$5:$C$3004,0)),ISNUMBER(MATCH(SUBSTITUTE(B38,"-",""),Kundenbestand!$C$5:$C$3004,0))),"x","") | V38: =IF(U38="x",S38,0) -> 0
A39: 978-3-518-73353-0 | B39: 978-3-518-12675-2 | C39: Suhrkamp Verlag | D39: Metz/Seeßlen | E39: Geld frisst Kunst – Kunst frisst Geld | F39: Ein Pamphlet | G39: 41869 | H39: =IF(ISNUMBER(G39),YEAR(G39),"") -> 2014 | I39: 140 | J39: 1.42 | K39: =IF(AND(ISNUMBER(I39),ISNUMBER(J39)),I39*J39,0) -> 198.8 | L39: Paket SoWi Classics | M39: ja | N39: ABQ | O39: Kultur, Literatur & Medien | P39: =IF(LEFT(L39,13)="Inlibra Paket","nein – Frontlist 2026",IF(K39<=0,"nein – Preis fehlt","ja")) -> ja | Q39: =IF(H39="","",INDEX(Klasse_Name,MATCH(H39,Klasse_ab,1))) -> 2013–2016 | R39: =IF(H39="",0,INDEX(Klasse_Rabatt,MATCH(H39,Klasse_ab,1))) -> 0.4 | S39: =IF(P39="ja",K39*(1-R39),0) -> 119.28 | U39: =IF(OR(T39="x",ISNUMBER(MATCH(SUBSTITUTE(A39,"-",""),Kundenbestand!$C$5:$C$3004,0)),ISNUMBER(MATCH(SUBSTITUTE(B39,"-",""),Kundenbestand!$C$5:$C$3004,0))),"x","") | V39: =IF(U39="x",S39,0) -> 0
A40: 978-3-518-73378-3 | B40: 978-3-518-58314-2 | C40: Suhrkamp Verlag | D40: Elias/Schröter | E40: Gesammelte Schriften in 19 Bänden | F40: Band 10: Die Gesellschaft der Individuen | G40: 37186 | H40: =IF(ISNUMBER(G40),YEAR(G40),"") -> 2001 | I40: 280 | J40: 1.42 | K40: =IF(AND(ISNUMBER(I40),ISNUMBER(J40)),I40*J40,0) -> 397.6 | L40: Paket SoWi Classics | M40: ja | N40: JHBA;NHTB;JHB | O40: Werkausgaben & Editionen | P40: =IF(LEFT(L40,13)="Inlibra Paket","nein – Frontlist 2026",IF(K40<=0,"nein – Preis fehlt","ja")) -> ja | Q40: =IF(H40="","",INDEX(Klasse_Name,MATCH(H40,Klasse_ab,1))) -> bis 2012 | R40: =IF(H40="",0,INDEX(Klasse_Rabatt,MATCH(H40,Klasse_ab,1))) -> 0.5 | S40: =IF(P40="ja",K40*(1-R40),0) -> 198.8 | U40: =IF(OR(T40="x",ISNUMBER(MATCH(SUBSTITUTE(A40,"-",""),Kundenbestand!$C$5:$C$3004,0)),ISNUMBER(MATCH(SUBSTITUTE(B40,"-",""),Kundenbestand!$C$5:$C$3004,0))),"x","") | V40: =IF(U40="x",S40,0) -> 0
...

Sheet Parameter
F1: Your Trusted Knowledge Base: https://www.inlibra.com
B2: Parameter Backlist-Kaufpakete Suhrkamp
B4: Archivrabatt nach Erscheinungsjahr | C4: ab Jahr | D4: Archivrabatt | E4: Bezeichnung
B5: Altersklasse 1 | C5: 0 | D5: 0.5 | E5: bis 2012
B6: Altersklasse 2 | C6: 2013 | D6: 0.4 | E6: 2013–2016
B7: Altersklasse 3 | C7: 2017 | D7: 0.25 | E7: 2017–2020
B8: Altersklasse 4 | C8: 2021 | D8: 0.1 | E8: 2021–2025
B9: Konditionen Inlibra: Archivpakete 10–50 % zusätzlicher Paketrabatt je nach Themen und Jahren. „ab Jahr“ aufsteigend halten.
B11: Grundrabatte | C11: Wert
B12: Grundrabatt Fachpaket | C12: 0.1 | F12: wie Themen-Einzelpakete
B13: Grundrabatt Gesamtpaket | C13: 0.5 | F13: wie Themenpaket Gesamt
B14: Umsatzsteuer (Netto = Brutto ÷ (1 + USt)) | C14: 0.07 | F14: E-Books 7 %
B15: Kein Konsortialrabatt: Das Angebot läuft außerhalb des Konsortiums.
B17: Faktoren | C17: Faktor
B18: Universitäten | C18: 1 | F18: Faktor Typ
B19: Fachhochschulen | C19: 0.5 | F19: Faktor Typ
B20: Staats-/Landesbibliotheken | C20: 1 | F20: Faktor Typ (Themenpakete: 0,75)
B21: ≤ 5.000 FTE | C21: 0.8 | F21: Faktor Größe (nur Uni/FH)
B22: ≤ 10.000 FTE | C22: 0.9 | F22: Faktor Größe (nur Uni/FH)
B23: > 10.000 FTE | C23: 1 | F23: Faktor Größe (nur Uni/FH)
B25: Fachpakete (Liste für die Zuordnung)
B26: Philosophie & Religion
B27: Soziologie, Gesellschaft & Wirtschaft
B28: Politik, Recht & Geschichte
B29: Kultur, Literatur & Medien
B30: Werkausgaben & Editionen
B32: Inst-Preis je Titel = NP × Faktor (lt. Titelliste, derzeit 1,42). Alle Preise brutto.
